BEGIN:VCALENDAR
VERSION:2.0
PRODID:-//49th Annual Art Deco Weekend 2026 - ECPv6.15.12.2//NONSGML v1.0//EN
CALSCALE:GREGORIAN
METHOD:PUBLISH
X-ORIGINAL-URL:https://artdecoweekend.org
X-WR-CALDESC:Events for 49th Annual Art Deco Weekend 2026
REFRESH-INTERVAL;VALUE=DURATION:PT1H
X-Robots-Tag:noindex
X-PUBLISHED-TTL:PT1H
BEGIN:VTIMEZONE
TZID:America/New_York
BEGIN:DAYLIGHT
TZOFFSETFROM:-0500
TZOFFSETTO:-0400
TZNAME:EDT
DTSTART:20250309T070000
END:DAYLIGHT
BEGIN:STANDARD
TZOFFSETFROM:-0400
TZOFFSETTO:-0500
TZNAME:EST
DTSTART:20251102T060000
END:STANDARD
BEGIN:DAYLIGHT
TZOFFSETFROM:-0500
TZOFFSETTO:-0400
TZNAME:EDT
DTSTART:20260308T070000
END:DAYLIGHT
BEGIN:STANDARD
TZOFFSETFROM:-0400
TZOFFSETTO:-0500
TZNAME:EST
DTSTART:20261101T060000
END:STANDARD
BEGIN:DAYLIGHT
TZOFFSETFROM:-0500
TZOFFSETTO:-0400
TZNAME:EDT
DTSTART:20270314T070000
END:DAYLIGHT
BEGIN:STANDARD
TZOFFSETFROM:-0400
TZOFFSETTO:-0500
TZNAME:EST
DTSTART:20271107T060000
END:STANDARD
END:VTIMEZONE
BEGIN:VEVENT
DTSTART;TZID=America/New_York:20260109T103000
DTEND;TZID=America/New_York:20260109T123000
DTSTAMP:20260420T072238
CREATED:20251218T125006Z
LAST-MODIFIED:20251218T165611Z
UID:10000453-1767954600-1767961800@artdecoweekend.org
SUMMARY:Ocean Drive Architectural Tour
DESCRIPTION:This 1 1/2 to 2-hour walking tour provides an introduction to the Art Deco\, Mediterranean Revival\, and Miami Modern (MiMo) styles found within the Miami Beach Architectural Historic District. Explore hotels\, restaurants\, and other commercial structures with a visit to a number of interiors. \nStarting point: Art Deco Welcome Center \nAll tours are rain or shine. Please dress for the weather as there are no refunds for inclement conditions.
URL:https://artdecoweekend.org/event/ocean-drive-architectural-tour-01-09-2026-t1/
LOCATION:Art Deco Museum and Welcome Center\, 1001 Ocean Drive\, Miami Beach\, FL\, 33139\, United States
CATEGORIES:Tours
ATTACH;FMTTYPE=image/jpeg:https://artdecoweekend.org/wp-content/uploads/2025/12/Ocean-Dr-Architectural-Tour_2026_square.jpg
ORGANIZER;CN="Miami Design Preservation League":MAILTO:info@mdpl.org
GEO:25.7802959;-80.1303405
X-APPLE-STRUCTURED-LOCATION;VALUE=URI;X-ADDRESS=Art Deco Museum and Welcome Center 1001 Ocean Drive Miami Beach FL 33139 United States;X-APPLE-RADIUS=500;X-TITLE=1001 Ocean Drive:geo:-80.1303405,25.7802959
END:VEVENT
BEGIN:VEVENT
DTSTART;TZID=America/New_York:20260109T120000
DTEND;TZID=America/New_York:20260109T200000
DTSTAMP:20260420T072238
CREATED:20251225T215621Z
LAST-MODIFIED:20251226T011058Z
UID:10000481-1767960000-1767988800@artdecoweekend.org
SUMMARY:Artisan Market
DESCRIPTION:Browse a variety of items for sale at the Art Deco Weekend artisan market between 5th Street and 14th Place. Featuring vendors from the local community as well as out-of-state\, find something unique to take home from the festival! \n 
URL:https://artdecoweekend.org/event/artisan-market-2026/2026-01-09/
LOCATION:Ocean Drive between 5th Street & 14th Place
CATEGORIES:Artisan Market
ATTACH;FMTTYPE=image/jpeg:https://artdecoweekend.org/wp-content/uploads/2025/12/ADW-Artisan-Market_DSC05605_square.jpg
ORGANIZER;CN="Miami Design Preservation League":MAILTO:info@mdpl.org
END:VEVENT
BEGIN:VEVENT
DTSTART;TZID=America/New_York:20260109T140000
DTEND;TZID=America/New_York:20260109T160000
DTSTAMP:20260420T072238
CREATED:20251218T130558Z
LAST-MODIFIED:20251218T165632Z
UID:10000455-1767967200-1767974400@artdecoweekend.org
SUMMARY:Ocean Drive Architectural Tour
DESCRIPTION:This 1 1/2 to 2-hour walking tour provides an introduction to the Art Deco\, Mediterranean Revival\, and Miami Modern (MiMo) styles found within the Miami Beach Architectural Historic District. Explore hotels\, restaurants\, and other commercial structures with a visit to a number of interiors. \nStarting point: Art Deco Welcome Center \nAll tours are rain or shine. Please dress for the weather as there are no refunds for inclement conditions.
URL:https://artdecoweekend.org/event/ocean-drive-architectural-tour-01-09-2026-t2/
LOCATION:Art Deco Museum and Welcome Center\, 1001 Ocean Drive\, Miami Beach\, FL\, 33139\, United States
CATEGORIES:Tours
ATTACH;FMTTYPE=image/jpeg:https://artdecoweekend.org/wp-content/uploads/2025/12/Ocean-Dr-Architectural-Tour_2026_square.jpg
ORGANIZER;CN="Miami Design Preservation League":MAILTO:info@mdpl.org
GEO:25.7802959;-80.1303405
X-APPLE-STRUCTURED-LOCATION;VALUE=URI;X-ADDRESS=Art Deco Museum and Welcome Center 1001 Ocean Drive Miami Beach FL 33139 United States;X-APPLE-RADIUS=500;X-TITLE=1001 Ocean Drive:geo:-80.1303405,25.7802959
END:VEVENT
BEGIN:VEVENT
DTSTART;TZID=America/New_York:20260109T170000
DTEND;TZID=America/New_York:20260109T180000
DTSTAMP:20260420T072238
CREATED:20251114T210255Z
LAST-MODIFIED:20251230T220546Z
UID:10000452-1767978000-1767981600@artdecoweekend.org
SUMMARY:Dance NOW! Miami with the South Beach Chamber Ensemble
DESCRIPTION:Art Deco Weekend kicks off at the Jazz Age Stage with Dance NOW! Miami with the South Beach Chamber Ensemble. Enjoy a fantastic show of dance and music inspired by the Art Deco Era. \nDance NOW! Miami’s mission is to create\, promote and produce contemporary dance of the highest caliber\, and through performance\, arts education\, community leadership and innovative programming\, nurture new talents\, foster artistic collaborations and make the art of dance accessible to diverse audiences locally\, nationally and internationally. \nThe mission of the South Beach Chamber Ensemble is to promote and perform chamber music in all its diverse forms\, from its origins in the distant past\, to the varied cultural creations being produced today\, bringing together performers\, composers\, and audiences to experience the beauty and intimacy of the human spirit. We envision a world where music inspires and energizes all people\, creating peace\, harmony\, joy\, and unprecedented satisfaction in being alive.
URL:https://artdecoweekend.org/event/2026-dance-now-miami/
LOCATION:Jazz Age Stage at Lummus Park & 12th Street
CATEGORIES:Dancing,Live Music
ATTACH;FMTTYPE=image/jpeg:https://artdecoweekend.org/wp-content/uploads/2025/11/thumbnail_The-Man-i-love-Julia-and-Hunter_square.jpg
ORGANIZER;CN="Miami Design Preservation League":MAILTO:info@mdpl.org
GEO:25.782609;-80.128859
END:VEVENT
BEGIN:VEVENT
DTSTART;TZID=America/New_York:20260109T193000
DTEND;TZID=America/New_York:20260109T220000
DTSTAMP:20260420T072238
CREATED:20251114T193641Z
LAST-MODIFIED:20251230T165258Z
UID:10000449-1767987000-1767996000@artdecoweekend.org
SUMMARY:VIP Opening Night Soirée feat. Michael Arenella & His Dreamland Orchestra
DESCRIPTION:Step into the Glamour of Art Deco Weekend! \n✨ VIP Night: Invitation-Only Event ✨ \nAn exclusive celebration for MDPL Members and VIPs! Don your finest dapper attire and join us for an unforgettable night of music\, dance\, and timeless Art Deco style. \n📍 Location: The Jazz Age Stage\, Lummus Park & 12th Street \n📅 Date: Friday\, January 09\, 2026 \n🕗 Time: 7:30 PM – 10:00 PM (live music begins at 8:00 PM) \n  \n🎷 Featuring Michael Arenella & His Dreamland Orchestra \n\nWelcoming back to Miami’s Jazz Age Stage— Michael Arenella & His Dreamland Orchestra will fill the ocean air with their authentic and soulful interpretations of Early Jazz\, Swing\, Bossa Nova\, and Brazilian Jazz. Known for sparking the revival of Jazz Age culture with their iconic Jazz Age Lawn Party in NYC\, the band delivers timeless performances that blend vintage spirit with modern artistry. \n\n💃 Award-Winning Swing Dance Entertainment \nLet the rhythm move you with dazzling\, high-energy performances that capture the joy and spirit of swing. Get ready to participate in a mini dance class\, and swing through the night that promises to delight and inspire! \n✨ Don Your Dapper Attire and Capture the Moment ✨ \nSmile and show off your vintage looks at the photo and video stations
URL:https://artdecoweekend.org/event/2026-vip-fri/
LOCATION:Jazz Age Stage at Lummus Park & 12th Street
CATEGORIES:Dancing,Live Music
ATTACH;FMTTYPE=image/jpeg:https://artdecoweekend.org/wp-content/uploads/2025/11/MDPL-VIP-Night_2026_v1.jpg
ORGANIZER;CN="Miami Design Preservation League":MAILTO:info@mdpl.org
GEO:25.782609;-80.128859
END:VEVENT
END:VCALENDAR