BEGIN:VCALENDAR
VERSION:2.0
PRODID:-//49th Annual Art Deco Weekend 2026 - ECPv6.15.12.2//NONSGML v1.0//EN
CALSCALE:GREGORIAN
METHOD:PUBLISH
X-WR-CALNAME:49th Annual Art Deco Weekend 2026
X-ORIGINAL-URL:https://artdecoweekend.org
X-WR-CALDESC:Events for 49th Annual Art Deco Weekend 2026
REFRESH-INTERVAL;VALUE=DURATION:PT1H
X-Robots-Tag:noindex
X-PUBLISHED-TTL:PT1H
BEGIN:VTIMEZONE
TZID:America/New_York
BEGIN:DAYLIGHT
TZOFFSETFROM:-0500
TZOFFSETTO:-0400
TZNAME:EDT
DTSTART:20210314T070000
END:DAYLIGHT
BEGIN:STANDARD
TZOFFSETFROM:-0400
TZOFFSETTO:-0500
TZNAME:EST
DTSTART:20211107T060000
END:STANDARD
BEGIN:DAYLIGHT
TZOFFSETFROM:-0500
TZOFFSETTO:-0400
TZNAME:EDT
DTSTART:20220313T070000
END:DAYLIGHT
BEGIN:STANDARD
TZOFFSETFROM:-0400
TZOFFSETTO:-0500
TZNAME:EST
DTSTART:20221106T060000
END:STANDARD
BEGIN:DAYLIGHT
TZOFFSETFROM:-0500
TZOFFSETTO:-0400
TZNAME:EDT
DTSTART:20230312T070000
END:DAYLIGHT
BEGIN:STANDARD
TZOFFSETFROM:-0400
TZOFFSETTO:-0500
TZNAME:EST
DTSTART:20231105T060000
END:STANDARD
END:VTIMEZONE
BEGIN:VEVENT
DTSTART;TZID=America/New_York:20220114T103000
DTEND;TZID=America/New_York:20220114T120000
DTSTAMP:20260425T093338
CREATED:20211226T230243Z
LAST-MODIFIED:20221226T211109Z
UID:10000064-1642156200-1642161600@artdecoweekend.org
SUMMARY:Ocean Drive Architectural Tour
DESCRIPTION:This 1 1/2 to 2-hour walking tour provides an introduction to the Art Deco\, Mediterranean Revival\, and Miami Modern (MiMo) styles found within the Miami Beach Architectural Historic District. Explore hotels\, restaurants\, and other commercial structures with a visit to a number of interiors.  \nTour takers will be provided with a sanitized wireless receiver and headphones which will transmit audio from the tour guide\, in order to allow for social distancing of at least 6 feet between tour takers. \nAll tours are rain or shine. Please dress for the weather as there are no refunds for inclement conditions. \n 
URL:https://artdecoweekend.org/event/ocean-drive-architectural-tour/
LOCATION:Art Deco Museum and Welcome Center\, 1001 Ocean Drive\, Miami Beach\, FL\, 33139\, United States
CATEGORIES:Tours
ATTACH;FMTTYPE=image/jpeg:https://artdecoweekend.org/wp-content/uploads/2021/12/ocean-drive-tour-image.jpeg
GEO:25.7802959;-80.1303405
X-APPLE-STRUCTURED-LOCATION;VALUE=URI;X-ADDRESS=Art Deco Museum and Welcome Center 1001 Ocean Drive Miami Beach FL 33139 United States;X-APPLE-RADIUS=500;X-TITLE=1001 Ocean Drive:geo:-80.1303405,25.7802959
END:VEVENT
BEGIN:VEVENT
DTSTART;TZID=America/New_York:20220114T090000
DTEND;TZID=America/New_York:20220114T170000
DTSTAMP:20260425T093338
CREATED:20220109T113941Z
LAST-MODIFIED:20221226T211125Z
UID:10000106-1642150800-1642179600@artdecoweekend.org
SUMMARY:Morris Lapidus: I Did it My Way
DESCRIPTION:A 20-year retrospective on Morris Lapidus (1902-2001) with a focus on his career’s work as it relates to: \n\nHis early work in retail design\nWorking with the Art Deco masters on Miami Beach\nVenturing on his own with the Fontainebleau\, Eden Roc\, and Americana\nHis legacy in transforming Lincoln Road into one of the most famous pedestrian plazas\nHis legacy of other building designs including Temples\, office buildings\, community centers\, and more\n\nThis exhibition is on view through March 15th\, 2022 at the Art Deco Museum. Free for Miami-Dade residents and MDPL Members. $5 general admission.
URL:https://artdecoweekend.org/event/morris-lapidus-i-did-it-my-way/
LOCATION:Art Deco Museum and Welcome Center\, 1001 Ocean Drive\, Miami Beach\, FL\, 33139\, United States
CATEGORIES:Exhibitions
ATTACH;FMTTYPE=image/jpeg:https://artdecoweekend.org/wp-content/uploads/2022/01/lapidus-exhibition-cover-photo.jpg
ORGANIZER;CN="Miami Design Preservation League":MAILTO:info@mdpl.org
GEO:25.7802959;-80.1303405
X-APPLE-STRUCTURED-LOCATION;VALUE=URI;X-ADDRESS=Art Deco Museum and Welcome Center 1001 Ocean Drive Miami Beach FL 33139 United States;X-APPLE-RADIUS=500;X-TITLE=1001 Ocean Drive:geo:-80.1303405,25.7802959
END:VEVENT
END:VCALENDAR